Felt | Verdi |
AlreadyApplied | True |
Aperture | 5.6 |
ApertureValue | 5.6 |
ApproximateFocusDistance | 0.39 |
Artist | Storker Moe |
AutoLateralCA | 0 |
AutoWhiteVersion | 134348800 |
BitsPerSample | 8 |
Blacks2012 | -55 |
BlueHue | 0 |
BlueSaturation | 0 |
By-line | Storker Moe |
CameraProfile | Adobe Standard |
Caption-Abstract | OLYMPUS DIGITAL CAMERA |
CFAPattern | [Red,Green][Green,Blue] |
CircleOfConfusion | 0.015 mm |
City | Agdenes |
Clarity2012 | +20 |
ColorComponents | 3 |
ColorNoiseReduction | 25 |
ColorNoiseReductionDetail | 50 |
ColorNoiseReductionSmoothness | 50 |
ColorSpace | sRGB |
ColorTemperature | 6100 |
Contrast | Normal |
Contrast2012 | 0 |
ConvertToGrayscale | False |
Copyright | Storker Moe |
CopyrightNotice | Storker Moe |
Country | Norway |
Country-PrimaryLocationCode | NOR |
Country-PrimaryLocationName | Norway |
CountryCode | NOR |
CreateDate | 2014:02:23 14:22:07 |
Creator | Storker Moe |
CreatorTool | Adobe Photoshop Lightroom 5.3 (Windows) |
CropAngle | 0 |
CropBottom | 0.797707 |
CropConstrainToWarp | 0 |
CropLeft | 0.263656 |
CropRight | 0.871831 |
CropTop | 0.257107 |
CustomRendered | Normal |
DateCreated (1) | 2014:02:23 |
DateCreated | 2014:02:23 14:22:07+01:00 |
DateTimeOriginal | 2014:02:23 14:22:07 |
DefringeGreenAmount | 0 |
DefringeGreenHueHi | 60 |
DefringeGreenHueLo | 40 |
DefringePurpleAmount | 0 |
DefringePurpleHueHi | 70 |
DefringePurpleHueLo | 30 |
Description | OLYMPUS DIGITAL CAMERA |
DigitalZoomRatio | 1 |
DOF | 0.37 m (0.28 - 0.65 m) |
Exposure2012 | -0.80 |
ExposureCompensation | -1 |
ExposureMode | Manual |
ExposureProgram | Aperture-priority AE |
ExposureTime | 1/20 |
Flash | On, Fired |
FlashCompensation | 0 |
FNumber | 5.6 |
FocalLength | 9.0 mm |
FocalLength35efl | 9.0 mm (35 mm equivalent: 18.0 mm) |
FocalLengthIn35mmFormat | 18 mm |
Format | image/jpeg |
FOV | 90.0 deg |
GainControl | High gain up |
GPSAltitude (1) | 3.5 m |
GPSAltitude | 3.5 m Below Sea Level |
GPSAltitudeRef | Below Sea Level |
GPSDateStamp | 2014:02:23 |
GPSDateTime | 2014:02:23 13:22:07Z |
GPSLatitude (1) | 63 deg 28' 51.98" |
GPSLatitude | 63 deg 28' 51.98" N |
GPSLatitudeRef | North |
GPSLongitude (1) | 9 deg 52' 7.70" |
GPSLongitude | 9 deg 52' 7.70" E |
GPSLongitudeRef | East |
GPSMapDatum | WGS-84 |
GPSPosition | 63 deg 28' 51.98" N, 9 deg 52' 7.70" E |
GPSTimeStamp | 13:22:07 |
GPSVersionID | 2.2.0.0 |
GrainAmount | 0 |
GreenHue | 0 |
GreenSaturation | 0 |
HasCrop | True |
HasSettings | True |
HierarchicalSubject | Friluft/Natur|Dykking |
Highlights2012 | -60 |
HueAdjustmentAqua | 0 |
HueAdjustmentBlue | 0 |
HueAdjustmentGreen | 0 |
HueAdjustmentMagenta | 0 |
HueAdjustmentOrange | 0 |
HueAdjustmentPurple | 0 |
HueAdjustmentRed | 0 |
HueAdjustmentYellow | 0 |
HyperfocalDistance | 0.96 m |
ImageDescription | OLYMPUS DIGITAL CAMERA |
ImageHeight | 1080 |
ImageSize | 1620x1080 |
ImageWidth | 1620 |
ISO | 400 |
Keywords | Dykking |
Lens | OLYMPUS M.9-18mm F4.0-5.6 |
LensInfo | 9-18mm f/4-5.6 |
LensManualDistortionAmount | -26 |
LensModel | OLYMPUS M.9-18mm F4.0-5.6 |
LensProfileEnable | 0 |
LensProfileSetup | LensDefaults |
LensSerialNumber | AAJ236757 |
LightSource | Unknown |
LightValue | 7.3 |
Location | Sølotneset |
LuminanceAdjustmentAqua | -41 |
LuminanceAdjustmentBlue | -36 |
LuminanceAdjustmentGreen | 0 |
LuminanceAdjustmentMagenta | 0 |
LuminanceAdjustmentOrange | 0 |
LuminanceAdjustmentPurple | 0 |
LuminanceAdjustmentRed | 0 |
LuminanceAdjustmentYellow | 0 |
LuminanceSmoothing | 0 |
Make | OLYMPUS IMAGING CORP. |
MaxApertureValue | 4.0 |
Megapixels | 1.7 |
MeteringMode | Multi-segment |
Model | E-M5 |
ModifyDate (1) | 2014:02:24 18:18:48+01:00 |
ModifyDate | 2014:02:24 18:18:48 |
PaintCorrectionActive | true |
PaintCorrectionAmount | 1.000000 |
PaintCorrectionBrightness | 0.000000 |
PaintCorrectionClarity2012 | 0.000000 |
PaintCorrectionContrast2012 | 0.000000 |
PaintCorrectionDefringe | 0.000000 |
PaintCorrectionExposure2012 | -0.250000 |
PaintCorrectionHighlights2012 | 0.000000 |
PaintCorrectionHue | 65.000000 |
PaintCorrectionLuminanceNoise | 0.000000 |
PaintCorrectionMaskCenterWeight | 0.000000 |
PaintCorrectionMaskFlow | 0.500000 |
PaintCorrectionMaskRadius (1) | 0.018439 |
PaintCorrectionMaskRadius | 0.018443 |
PaintCorrectionMaskValue | 1.000000 |
PaintCorrectionMaskWhat | Mask/Paint |
PaintCorrectionMoire | 0.000000 |
PaintCorrectionSaturation | 0.000000 |
PaintCorrectionShadows2012 | 0.000000 |
PaintCorrectionSharpness | 0.000000 |
PaintCorrectionTemperature | 0.000000 |
PaintCorrectionTint | 0.000000 |
PaintCorrectionWhat | Correction |
ParametricDarks | 0 |
ParametricHighlights | 0 |
ParametricHighlightSplit | 75 |
ParametricLights | 0 |
ParametricMidtoneSplit | 50 |
ParametricShadows | 0 |
ParametricShadowSplit | 25 |
PerspectiveAspect | 0 |
PerspectiveHorizontal | 0 |
PerspectiveRotate | 0.0 |
PerspectiveScale | 100 |
PerspectiveUpright | 0 |
PerspectiveVertical | 0 |
PostCropVignetteAmount | 0 |
ProcessVersion | 6.7 |
ProfileDescription | sRGB IEC61966-2.1 |
Province-State | Sør-Trøndelag |
RedHue | 0 |
RedSaturation | 0 |
Rights | Storker Moe |
Saturation (1) | +10 |
Saturation | Normal |
SaturationAdjustmentAqua | 0 |
SaturationAdjustmentBlue | 0 |
SaturationAdjustmentGreen | 0 |
SaturationAdjustmentMagenta | 0 |
SaturationAdjustmentOrange | 0 |
SaturationAdjustmentPurple | 0 |
SaturationAdjustmentRed | 0 |
SaturationAdjustmentYellow | 0 |
ScaleFactor35efl | 2.0 |
SceneCaptureType | Standard |
SensitivityType | Standard Output Sensitivity |
SerialNumber | BEK522811 |
Shadows2012 | 0 |
ShadowTint | 0 |
SharpenDetail | 25 |
SharpenEdgeMasking | 0 |
SharpenRadius | +1.0 |
Sharpness (1) | 25 |
Sharpness | Normal |
ShutterSpeed | 1/20 |
ShutterSpeedValue | 1/20 |
Software | Adobe Photoshop Lightroom 5.3 (Windows) |
SplitToningBalance | 0 |
SplitToningHighlightHue | 0 |
SplitToningHighlightSaturation | 0 |
SplitToningShadowHue | 0 |
SplitToningShadowSaturation | 0 |
State | Sør-Trøndelag |
Sub-location | Sølotneset |
Subject | Dykking |
Tint | +11 |
ToneCurveName2012 | Linear |
ToneCurvePV2012 | 0, 0, 255, 255 |
ToneCurvePV2012Blue | 0, 0, 255, 255 |
ToneCurvePV2012Green | 0, 0, 255, 255 |
ToneCurvePV2012Red | 0, 0, 255, 255 |
Version | 8.3 |
Vibrance | 0 |
VignetteAmount | 0 |
WhiteBalance (1) | As Shot |
WhiteBalance | Manual |
Whites2012 | +15 |