Felt | Verdi |
AlreadyApplied | True |
Aperture | 20.0 |
ApertureValue | 20.0 |
Artist | Picasa |
AutoLateralCA | 0 |
AutoWhiteVersion | 134348800 |
BitsPerSample | 8 |
Blacks2012 | +100 |
BlueHue | 0 |
BlueSaturation | 0 |
BrightnessValue | 8.63828125 |
By-line | Picasa |
CameraProfile | Adobe Standard |
CircleOfConfusion | 0.020 mm |
Clarity2012 | 0 |
ColorComponents | 3 |
ColorNoiseReduction | 25 |
ColorNoiseReductionDetail | 50 |
ColorNoiseReductionSmoothness | 50 |
ColorTemperature | 7600 |
Contrast | Normal |
Contrast2012 | +90 |
ConvertToGrayscale | False |
CreateDate | 2014:02:12 11:05:59 |
Creator | Picasa |
CreatorTool | Adobe Photoshop Lightroom 5.3 (Windows) |
CropAngle | 0 |
CropBottom | 0.922794 |
CropConstrainToWarp | 0 |
CropLeft | 0 |
CropRight | 1 |
CropTop | 0.077206 |
CustomRendered | Normal |
DateCreated (1) | 2014:02:12 |
DateCreated | 2014:02:12 11:05:59 |
DateTimeOriginal | 2014:02:12 11:05:59 |
DefringeGreenAmount | 0 |
DefringeGreenHueHi | 60 |
DefringeGreenHueLo | 40 |
DefringePurpleAmount | 0 |
DefringePurpleHueHi | 70 |
DefringePurpleHueLo | 30 |
DigitalZoomRatio | 1 |
Exposure2012 | -2.50 |
ExposureCompensation | 0 |
ExposureMode | Auto |
ExposureProgram | Aperture-priority AE |
ExposureTime | 1/80 |
Flash | Off, Did not fire |
FNumber | 20.0 |
FocalLength | 16.0 mm |
FocalLength35efl | 16.0 mm (35 mm equivalent: 24.0 mm) |
FocalLengthIn35mmFormat | 24 mm |
Format | image/jpeg |
FOV | 73.7 deg |
GradientBasedCorrActive | true |
GradientBasedCorrAmount | 1.000000 |
GradientBasedCorrBrightness | 0.000000 |
GradientBasedCorrClarity2012 (1) | 0.441440 |
GradientBasedCorrClarity2012 (2) | 0.819820 |
GradientBasedCorrClarity2012 (3) | 0.585590 |
GradientBasedCorrClarity2012 | 0.000000 |
GradientBasedCorrContrast2012 (1) | 0.549550 |
GradientBasedCorrContrast2012 (2) | 0.477480 |
GradientBasedCorrContrast2012 (3) | 0.585590 |
GradientBasedCorrContrast2012 | -0.009010 |
GradientBasedCorrDefringe | 0.000000 |
GradientBasedCorrExposure2012 (1) | 0.549500 |
GradientBasedCorrExposure2012 (2) | 0.369250 |
GradientBasedCorrExposure2012 (3) | 0.315250 |
GradientBasedCorrExposure2012 | 0.063000 |
GradientBasedCorrHighlights2012 (1) | -0.441440 |
GradientBasedCorrHighlights2012 | 0.000000 |
GradientBasedCorrHue | 0.000000 |
GradientBasedCorrLuminanceNoise | 0.000000 |
GradientBasedCorrMaskFullX (1) | 0.418301 |
GradientBasedCorrMaskFullX (2) | 0.516340 |
GradientBasedCorrMaskFullX (3) | -0.001634 |
GradientBasedCorrMaskFullX | 1.018070 |
GradientBasedCorrMaskFullY (1) | 0.932626 |
GradientBasedCorrMaskFullY (2) | 0.185363 |
GradientBasedCorrMaskFullY (3) | 0.463128 |
GradientBasedCorrMaskFullY | 0.545497 |
GradientBasedCorrMaskValue | 1.000000 |
GradientBasedCorrMaskWhat | Mask/Gradient |
GradientBasedCorrMaskZeroX (1) | 0.436275 |
GradientBasedCorrMaskZeroX (2) | 0.509739 |
GradientBasedCorrMaskZeroX (3) | 1.117650 |
GradientBasedCorrMaskZeroX | 0.807471 |
GradientBasedCorrMaskZeroY (1) | 0.165698 |
GradientBasedCorrMaskZeroY (2) | 0.435614 |
GradientBasedCorrMaskZeroY (3) | 0.482793 |
GradientBasedCorrMaskZeroY | 0.686674 |
GradientBasedCorrMoire | 0.000000 |
GradientBasedCorrSaturation (1) | 0.297300 |
GradientBasedCorrSaturation | 0.000000 |
GradientBasedCorrShadows2012 (1) | 0.711710 |
GradientBasedCorrShadows2012 | 0.000000 |
GradientBasedCorrSharpness (1) | 0.117120 |
GradientBasedCorrSharpness | 0.045050 |
GradientBasedCorrTemperature (1) | -0.081080 |
GradientBasedCorrTemperature (2) | -1.000000 |
GradientBasedCorrTemperature (3) | 0.063060 |
GradientBasedCorrTemperature | -0.549550 |
GradientBasedCorrTint | 0.099100 |
GradientBasedCorrWhat | Correction |
GrainAmount | 0 |
GreenHue | 0 |
GreenSaturation | 0 |
HasCrop | True |
HasSettings | True |
Highlights2012 | -42 |
HueAdjustmentAqua | 0 |
HueAdjustmentBlue | 0 |
HueAdjustmentGreen | 0 |
HueAdjustmentMagenta | 0 |
HueAdjustmentOrange | 0 |
HueAdjustmentPurple | 0 |
HueAdjustmentRed | 0 |
HueAdjustmentYellow | 0 |
HyperfocalDistance | 0.64 m |
ImageHeight | 2760 |
ImageSize | 4912x2760 |
ImageWidth | 4912 |
ISO | 100 |
Lens | E PZ 16-50mm F3.5-5.6 OSS |
LensDistortInfo | 34515/32768 -216243080/1073741824 106060451/1073741824 -33850569/1073741824 |
LensInfo | 16-50mm f/3.5-5.6 |
LensManualDistortionAmount | 0 |
LensModel | E PZ 16-50mm F3.5-5.6 OSS |
LensProfileEnable | 0 |
LensProfileSetup | LensDefaults |
LightSource | Shade |
LightValue | 15.0 |
LuminanceAdjustmentAqua | 0 |
LuminanceAdjustmentBlue | 0 |
LuminanceAdjustmentGreen | 0 |
LuminanceAdjustmentMagenta | 0 |
LuminanceAdjustmentOrange | 0 |
LuminanceAdjustmentPurple | 0 |
LuminanceAdjustmentRed | 0 |
LuminanceAdjustmentYellow | 0 |
LuminanceSmoothing | 0 |
Make | SONY |
MaxApertureValue | 3.5 |
Megapixels | 13.6 |
MeteringMode | Multi-segment |
Model | NEX-6 |
ModifyDate (1) | 2014:03:06 18:05:51+01:00 |
ModifyDate | 2014:03:06 18:05:51 |
ParametricDarks | 0 |
ParametricHighlights | 0 |
ParametricHighlightSplit | 75 |
ParametricLights | 0 |
ParametricMidtoneSplit | 50 |
ParametricShadows | 0 |
ParametricShadowSplit | 25 |
PerspectiveAspect | 0 |
PerspectiveHorizontal | 0 |
PerspectiveRotate | 0.0 |
PerspectiveScale | 100 |
PerspectiveUpright | 0 |
PerspectiveVertical | 0 |
PostCropVignetteAmount | 0 |
ProcessVersion | 6.7 |
RecommendedExposureIndex | 100 |
RedHue | 0 |
RedSaturation | 0 |
RelatedImageHeight | 2760 |
RelatedImageWidth | 4912 |
Saturation (1) | 0 |
Saturation | Normal |
SaturationAdjustmentAqua | 0 |
SaturationAdjustmentBlue | 0 |
SaturationAdjustmentGreen | 0 |
SaturationAdjustmentMagenta | 0 |
SaturationAdjustmentOrange | 0 |
SaturationAdjustmentPurple | 0 |
SaturationAdjustmentRed | 0 |
SaturationAdjustmentYellow | 0 |
ScaleFactor35efl | 1.5 |
SceneCaptureType | Standard |
SceneType | Directly photographed |
SensitivityType | Recommended Exposure Index |
Shadows2012 | +100 |
ShadowTint | 0 |
SharpenDetail | 25 |
SharpenEdgeMasking | 0 |
SharpenRadius | +1.0 |
Sharpness (1) | 25 |
Sharpness | Normal |
ShutterSpeed | 1/80 |
ShutterSpeedValue | 1/80 |
Software | Adobe Photoshop Lightroom 5.3 (Windows) |
SplitToningBalance | 0 |
SplitToningHighlightHue | 0 |
SplitToningHighlightSaturation | 0 |
SplitToningShadowHue | 0 |
SplitToningShadowSaturation | 0 |
Tint | +12 |
ToneCurveName2012 | Linear |
ToneCurvePV2012 | 0, 0, 255, 255 |
ToneCurvePV2012Blue | 0, 0, 255, 255 |
ToneCurvePV2012Green | 0, 0, 255, 255 |
ToneCurvePV2012Red | 0, 0, 255, 255 |
Version | 8.3 |
Vibrance | 0 |
VignetteAmount | 0 |
WhiteBalance (1) | As Shot |
WhiteBalance | Manual |
Whites2012 | -100 |