Felt | Verdi |
AlreadyApplied | True |
Aperture | 5.6 |
ApertureValue | 5.6 |
ApproximateFocusDistance | 5.01 |
AutoLateralCA | 0 |
BitsPerSample | 8 |
Blacks2012 | +36 |
BlueHue | 0 |
BlueSaturation | 0 |
CameraProfile | Camera Portrait |
CFAPattern | [Red,Green][Green,Blue] |
CircleOfConfusion | 0.030 mm |
Clarity2012 | +15 |
ColorComponents | 3 |
ColorNoiseReduction | 25 |
ColorNoiseReductionDetail | 50 |
ColorTemperature | 5500 |
Contrast | Normal |
Contrast2012 | +18 |
ConvertToGrayscale | False |
CreateDate (1) | 2013:05:18 16:24:28.73 |
CreateDate | 2013:05:18 16:24:28 |
CreatorTool | Adobe Photoshop Lightroom 4.4 (Macintosh) |
CropAngle | 1.97329 |
CropBottom | 0.790923 |
CropConstrainToWarp | 0 |
CropHeight | 2102 |
CropLeft | 0.245097 |
CropRight | 0.970022 |
CropTop | 0.010572 |
CropUnit | pixels |
CropWidth | 3160 |
CustomRendered | Normal |
DateCreated (1) | 2013:05:18 |
DateCreated | 2013:05:18 16:24:28.73 |
DateTimeOriginal | 2013:05:18 16:24:28 |
DefringeGreenAmount | 0 |
DefringeGreenHueHi | 60 |
DefringeGreenHueLo | 40 |
DefringePurpleAmount | 0 |
DefringePurpleHueHi | 70 |
DefringePurpleHueLo | 30 |
DigitalZoomRatio | 1 |
DOF | 0.05 m (4.99 - 5.03 m) |
Exposure2012 | 0.00 |
ExposureCompensation | 0 |
ExposureMode | Manual |
ExposureProgram | Manual |
ExposureTime | 1/640 |
Flash | No Flash |
FNumber | 5.6 |
FocalLength | 400.0 mm |
FocalLength35efl | 400.0 mm (35 mm equivalent: 400.0 mm) |
FocalLengthIn35mmFormat | 400 mm |
Format | image/jpeg |
FOV | 5.2 deg |
GainControl | None |
GrainAmount | 0 |
GreenHue | 0 |
GreenSaturation | 0 |
HasCrop | True |
HasSettings | True |
Highlights2012 | -20 |
HueAdjustmentAqua | 0 |
HueAdjustmentBlue | 0 |
HueAdjustmentGreen | 0 |
HueAdjustmentMagenta | 0 |
HueAdjustmentOrange | 0 |
HueAdjustmentPurple | 0 |
HueAdjustmentRed | 0 |
HueAdjustmentYellow | 0 |
HyperfocalDistance | 950.91 m |
ImageHeight | 2102 |
ImageNumber | 66608 |
ImageSize | 3160x2102 |
ImageWidth | 3160 |
ISO | 250 |
Lens | 70.0-200.0 mm f/2.8 |
LensID (1) | 162 |
LensID | AF-S Nikkor 70-200mm f/2.8G ED VR II |
LensInfo | 70-200mm f/2.8 |
LensManualDistortionAmount | 0 |
LensModel | 70.0-200.0 mm f/2.8 |
LensProfileChromaticAberrationScale | 100 |
LensProfileDistortionScale | 100 |
LensProfileEnable | 1 |
LensProfileFilename | NIKON D700 (Nikon AF-S NIKKOR 70-200mm f2.8G ED VR II) - RAW.lcp |
LensProfileName | Adobe (Nikon AF-S NIKKOR 70-200mm f/2.8G ED VR II) |
LensProfileSetup | LensDefaults |
LensProfileVignettingScale | 100 |
LightSource | Fine Weather |
LightValue | 13.0 |
LuminanceAdjustmentAqua | 0 |
LuminanceAdjustmentBlue | 0 |
LuminanceAdjustmentGreen | 0 |
LuminanceAdjustmentMagenta | 0 |
LuminanceAdjustmentOrange | 0 |
LuminanceAdjustmentPurple | 0 |
LuminanceAdjustmentRed | 0 |
LuminanceAdjustmentYellow | 0 |
LuminanceSmoothing | 0 |
Make | NIKON CORPORATION |
MaxApertureValue | 5.7 |
Megapixels | 6.6 |
MeteringMode | Multi-segment |
Model | NIKON D3S |
ModifyDate (1) | 2014:03:02 15:20:43+01:00 |
ModifyDate | 2014:03:02 15:20:43 |
PaintCorrectionActive | true |
PaintCorrectionAmount | 1.000000 |
PaintCorrectionBrightness | 0.320225 |
PaintCorrectionClarity2012 (1) | 0.887640 |
PaintCorrectionClarity2012 (2) | 0.836066 |
PaintCorrectionClarity2012 (3) | 0.235955 |
PaintCorrectionClarity2012 (4) | 0.245902 |
PaintCorrectionClarity2012 (6) | 0.180328 |
PaintCorrectionClarity2012 (8) | 0.262295 |
PaintCorrectionClarity2012 | 0.000000 |
PaintCorrectionContrast2012 (1) | 0.168539 |
PaintCorrectionContrast2012 (2) | 0.278881 |
PaintCorrectionContrast2012 (3) | 0.011236 |
PaintCorrectionContrast2012 | 0.000000 |
PaintCorrectionDefringe | 0.000000 |
PaintCorrectionExposure2012 (1) | 0.028090 |
PaintCorrectionExposure2012 (2) | 0.327869 |
PaintCorrectionExposure2012 (3) | 0.033708 |
PaintCorrectionExposure2012 | 0.000000 |
PaintCorrectionHighlights2012 (1) | 0.528090 |
PaintCorrectionHighlights2012 (3) | -0.344262 |
PaintCorrectionHighlights2012 (4) | -0.557377 |
PaintCorrectionHighlights2012 | 0.000000 |
PaintCorrectionHue | 233.000000 |
PaintCorrectionLuminanceNoise (1) | 0.528090 |
PaintCorrectionLuminanceNoise (2) | 0.295082 |
PaintCorrectionLuminanceNoise (3) | 0.370787 |
PaintCorrectionLuminanceNoise (6) | 0.163934 |
PaintCorrectionLuminanceNoise | 0.000000 |
PaintCorrectionMaskCenterWeight (6) | 0.467299 |
PaintCorrectionMaskCenterWeight | 0.000000 |
PaintCorrectionMaskFlow (1) | 0.125888 |
PaintCorrectionMaskFlow (12) | 1.000000 |
PaintCorrectionMaskFlow | 0.992016 |
PaintCorrectionMaskRadius (1) | 0.018873 |
PaintCorrectionMaskRadius (10) | 0.082071 |
PaintCorrectionMaskRadius (14) | 0.080593 |
PaintCorrectionMaskRadius (15) | 0.029686 |
PaintCorrectionMaskRadius (16) | 0.029684 |
PaintCorrectionMaskRadius (17) | 0.029767 |
PaintCorrectionMaskRadius (18) | 0.029715 |
PaintCorrectionMaskRadius (19) | 0.029756 |
PaintCorrectionMaskRadius (2) | 0.029674 |
PaintCorrectionMaskRadius (20) | 0.029689 |
PaintCorrectionMaskRadius (21) | 0.029665 |
PaintCorrectionMaskRadius (22) | 0.029685 |
PaintCorrectionMaskRadius (23) | 0.108414 |
PaintCorrectionMaskRadius (24) | 0.028788 |
PaintCorrectionMaskRadius (25) | 0.028851 |
PaintCorrectionMaskRadius (26) | 0.028749 |
PaintCorrectionMaskRadius (27) | 0.028723 |
PaintCorrectionMaskRadius (28) | 0.028696 |
PaintCorrectionMaskRadius (29) | 0.028686 |
PaintCorrectionMaskRadius (30) | 0.028743 |
PaintCorrectionMaskRadius (31) | 0.028854 |
PaintCorrectionMaskRadius (32) | 0.028820 |
PaintCorrectionMaskRadius (33) | 0.028808 |
PaintCorrectionMaskRadius (34) | 0.028781 |
PaintCorrectionMaskRadius (4) | 0.029678 |
PaintCorrectionMaskRadius (5) | 0.029675 |
PaintCorrectionMaskRadius (7) | 0.029688 |
PaintCorrectionMaskRadius (8) | 0.029693 |
PaintCorrectionMaskRadius | 0.104650 |
PaintCorrectionMaskValue | 1.000000 |
PaintCorrectionMaskWhat | Mask/Paint |
PaintCorrectionMoire (1) | -0.005442 |
PaintCorrectionMoire | 0.000000 |
PaintCorrectionSaturation (1) | 0.415730 |
PaintCorrectionSaturation (3) | 0.068584 |
PaintCorrectionSaturation (5) | -0.011236 |
PaintCorrectionSaturation (9) | 0.262295 |
PaintCorrectionSaturation | 0.000000 |
PaintCorrectionShadows2012 (1) | 0.010270 |
PaintCorrectionShadows2012 (2) | 0.452036 |
PaintCorrectionShadows2012 (3) | 0.360656 |
PaintCorrectionShadows2012 (4) | -0.196721 |
PaintCorrectionShadows2012 (5) | 0.377049 |
PaintCorrectionShadows2012 (6) | 0.000000 |
PaintCorrectionShadows2012 (7) | 0.344262 |
PaintCorrectionShadows2012 | -0.672131 |
PaintCorrectionSharpness (1) | 0.213483 |
PaintCorrectionSharpness (2) | 0.213115 |
PaintCorrectionSharpness (3) | 0.460674 |
PaintCorrectionSharpness (4) | 0.360656 |
PaintCorrectionSharpness (6) | 0.475410 |
PaintCorrectionSharpness (8) | 0.442623 |
PaintCorrectionSharpness | 0.000000 |
PaintCorrectionTemperature (1) | 0.297387 |
PaintCorrectionTemperature (2) | 0.149846 |
PaintCorrectionTemperature (3) | 0.033708 |
PaintCorrectionTemperature | 0.000000 |
PaintCorrectionTint (2) | -0.011236 |
PaintCorrectionTint | 0.000000 |
PaintCorrectionWhat | Correction |
ParametricDarks | 0 |
ParametricHighlights | -43 |
ParametricHighlightSplit | 75 |
ParametricLights | +22 |
ParametricMidtoneSplit | 50 |
ParametricShadows | +18 |
ParametricShadowSplit | 25 |
PerspectiveHorizontal | 0 |
PerspectiveRotate | 0.0 |
PerspectiveScale | 100 |
PerspectiveVertical | 0 |
PostCropVignetteAmount | 0 |
ProcessVersion | 6.7 |
ProfileDescription | sRGB IEC61966-2.1 |
Rating | 5 |
RedHue | 0 |
RedSaturation | 0 |
Saturation (1) | +11 |
Saturation | Normal |
SaturationAdjustmentAqua | 0 |
SaturationAdjustmentBlue | 0 |
SaturationAdjustmentGreen | 0 |
SaturationAdjustmentMagenta | 0 |
SaturationAdjustmentOrange | 0 |
SaturationAdjustmentPurple | 0 |
SaturationAdjustmentRed | 0 |
SaturationAdjustmentYellow | 0 |
ScaleFactor35efl | 1.0 |
SceneCaptureType | Standard |
SceneType | Directly photographed |
SensingMethod | One-chip color area |
SerialNumber | 2058033 |
Shadows2012 | 0 |
ShadowTint | 0 |
SharpenDetail | 36 |
SharpenEdgeMasking | 0 |
SharpenRadius | +1.4 |
Sharpness (1) | 49 |
Sharpness | Normal |
ShutterSpeed | 1/640 |
ShutterSpeedValue | 1/640 |
Software | Adobe Photoshop Lightroom 4.4 (Macintosh) |
SplitToningBalance | 0 |
SplitToningHighlightHue | 0 |
SplitToningHighlightSaturation | 0 |
SplitToningShadowHue | 0 |
SplitToningShadowSaturation | 0 |
SubjectDistanceRange | Unknown |
Tint | +10 |
ToneCurveName2012 | Linear |
ToneCurvePV2012 | 0, 0, 255, 255 |
ToneCurvePV2012Blue | 0, 0, 255, 255 |
ToneCurvePV2012Green | 0, 0, 255, 255 |
ToneCurvePV2012Red | 0, 0, 255, 255 |
Version | 7.4 |
Vibrance | 0 |
VignetteAmount | 0 |
WhiteBalance (1) | Daylight |
WhiteBalance | Manual |
Whites2012 | +10 |