Felt | Verdi |
AlreadyApplied | True |
Aperture | 10.0 |
ApertureValue | 10.0 |
ApproximateFocusDistance | 4.47 |
AutoLateralCA | 0 |
BitsPerSample | 8 |
Blacks2012 | -8 |
BlueHue | 0 |
BlueSaturation | 0 |
CameraProfile | Adobe Standard |
CircleOfConfusion | 0.018 mm |
Clarity2012 | -9 |
ColorComponents | 3 |
ColorMode | RGB |
ColorNoiseReduction | 25 |
ColorNoiseReductionDetail | 50 |
ColorSpace | Uncalibrated |
ColorTemperature | 4800 |
Contrast2012 | +14 |
ConvertToGrayscale | False |
CreateDate (1) | 2014:01:17 18:32:02+01:00 |
CreateDate | 2014:01:17 18:32:02 |
CreatorTool | Adobe Photoshop Elements 11.0 Macintosh |
CustomRendered | Normal |
DateCreated (1) | 2014:01:17 |
DateCreated | 2014:01:17 18:32:02 |
DateTimeOriginal | 2014:01:17 18:32:02 |
DefringeGreenAmount | 0 |
DefringeGreenHueHi | 60 |
DefringeGreenHueLo | 40 |
DefringePurpleAmount | 0 |
DefringePurpleHueHi | 70 |
DefringePurpleHueLo | 30 |
DOF | 1.77 m (3.75 - 5.53 m) |
ExifImageHeight | 3512 |
ExifImageWidth | 2341 |
Exposure2012 | 0.00 |
ExposureCompensation | 0 |
ExposureMode | Manual |
ExposureProgram | Manual |
ExposureTime | 1/200 |
Firmware | 1.2.1 |
Flash | Off, Did not fire |
FlashCompensation | 0 |
FNumber | 10.0 |
FocalLength | 65.0 mm |
FocalLength35efl | 65.0 mm (35 mm equivalent: 106.6 mm) |
Format | application/vnd.adobe.photoshop |
FOV | 19.2 deg |
GrainAmount | 0 |
GreenHue | 0 |
GreenSaturation | 0 |
HasCrop | False |
HasSettings | True |
Highlights2012 | +2 |
HueAdjustmentAqua | 0 |
HueAdjustmentBlue | 0 |
HueAdjustmentGreen | 0 |
HueAdjustmentMagenta | 0 |
HueAdjustmentOrange | 0 |
HueAdjustmentPurple | 0 |
HueAdjustmentRed | 0 |
HueAdjustmentYellow | 0 |
HyperfocalDistance | 23.06 m |
ICCProfileName | Adobe RGB (1998) |
ImageHeight (1) | 79 |
ImageHeight | 3512 |
ImageNumber | 0 |
ImageSize | 2341x3512 |
ImageWidth (1) | 79 |
ImageWidth (2) | 3512 |
ImageWidth | 2341 |
ISO | 100 |
Lens | EF24-105mm f/4L IS USM |
LensID (1) | 237 |
LensID | Canon EF 24-105mm f/4L IS USM |
LensInfo | 24-105mm f/? |
LensManualDistortionAmount | 0 |
LensModel | EF24-105mm f/4L IS USM |
LensProfileEnable | 0 |
LensProfileSetup | LensDefaults |
LensSerialNumber | 0000427a62 |
LightValue | 14.3 |
LuminanceAdjustmentAqua | 0 |
LuminanceAdjustmentBlue | 0 |
LuminanceAdjustmentGreen | 0 |
LuminanceAdjustmentMagenta | 0 |
LuminanceAdjustmentOrange | 0 |
LuminanceAdjustmentPurple | 0 |
LuminanceAdjustmentRed | 0 |
LuminanceAdjustmentYellow | 0 |
LuminanceSmoothing | 0 |
Make | Canon |
MaxApertureValue | 4.0 |
Megapixels | 8.2 |
MeteringMode | Multi-segment |
Model | Canon EOS 5D Mark III |
ModifyDate (1) | 2014:01:18 16:05:03+01:00 |
ModifyDate | 2014:01:18 16:05:03 |
Orientation | Horizontal (normal) |
ParametricDarks | 0 |
ParametricHighlights | 0 |
ParametricHighlightSplit | 75 |
ParametricLights | 0 |
ParametricMidtoneSplit | 50 |
ParametricShadows | 0 |
ParametricShadowSplit | 25 |
PerspectiveHorizontal | 0 |
PerspectiveRotate | 0.0 |
PerspectiveScale | 100 |
PerspectiveVertical | 0 |
PostCropVignetteAmount | 0 |
ProcessVersion | 6.7 |
ProfileDescription | Generic RGB Profile |
ProfileDescriptionML | Generic RGB Profile |
ProfileDescriptionML-ar-EG | ملف تعريف RGB العام |
ProfileDescriptionML-ca-ES | Perfil RGB genèric |
ProfileDescriptionML-cs-CZ | Obecný RGB profil |
ProfileDescriptionML-da-DK | Generel RGB-beskrivelse |
ProfileDescriptionML-de-DE | Allgemeines RGB-Profil |
ProfileDescriptionML-el-GR | Γενικό προφίλ RGB |
ProfileDescriptionML-es-ES | Perfil RGB genérico |
ProfileDescriptionML-fi-FI | Yleinen RGB-profiili |
ProfileDescriptionML-fr-FU | Profil générique RVB |
ProfileDescriptionML-he-IL | פרופיל RGB כללי |
ProfileDescriptionML-hr-HR | Generički RGB profil |
ProfileDescriptionML-hu-HU | Általános RGB profil |
ProfileDescriptionML-it-IT | Profilo RGB generico |
ProfileDescriptionML-ja-JP | 一般 RGB プロファイル |
ProfileDescriptionML-ko-KR | 일반 RGB 프로파일 |
ProfileDescriptionML-nb-NO | Generisk RGB-profil |
ProfileDescriptionML-nl-NL | Algemeen RGB-profiel |
ProfileDescriptionML-pl-PL | Uniwersalny profil RGB |
ProfileDescriptionML-pt-BR | Perfil RGB Genérico |
ProfileDescriptionML-pt-PO | Perfil RGB genérico |
ProfileDescriptionML-ro-RO | Profil RGB generic |
ProfileDescriptionML-ru-RU | Общий профиль RGB |
ProfileDescriptionML-sk-SK | Všeobecný RGB profil |
ProfileDescriptionML-sv-SE | Generisk RGB-profil |
ProfileDescriptionML-th-TH | โปรไฟล์ RGB ทั่วไป |
ProfileDescriptionML-tr-TR | Genel RGB Profili |
ProfileDescriptionML-uk-UA | Загальний профайл RGB |
ProfileDescriptionML-zh-CN | 普通 RGB 描述文件 |
ProfileDescriptionML-zh-TW | 通用 RGB 色彩描述 |
Rating | 0 |
RawFileName | Vilde, Tonje og Elise_0471.CR2 |
RedHue | 0 |
RedSaturation | 0 |
Saturation | +12 |
SaturationAdjustmentAqua | 0 |
SaturationAdjustmentBlue | 0 |
SaturationAdjustmentGreen | 0 |
SaturationAdjustmentMagenta | 0 |
SaturationAdjustmentOrange | 0 |
SaturationAdjustmentPurple | 0 |
SaturationAdjustmentRed | 0 |
SaturationAdjustmentYellow | 0 |
ScaleFactor35efl | 1.6 |
SceneCaptureType | Standard |
SerialNumber | 083024000720 |
Shadows2012 | -55 |
ShadowTint | 0 |
SharpenDetail | 25 |
SharpenEdgeMasking | 0 |
SharpenRadius | +1.0 |
Sharpness | 25 |
ShutterSpeed | 1/200 |
ShutterSpeedValue | 1/200 |
Software | Adobe Photoshop Elements 11.0 Macintosh |
SplitToningBalance | 0 |
SplitToningHighlightHue | 0 |
SplitToningHighlightSaturation | 0 |
SplitToningShadowHue | 0 |
SplitToningShadowSaturation | 0 |
Tint | 0 |
ToneCurveName2012 | Linear |
ToneCurvePV2012 | 0, 0, 255, 255 |
ToneCurvePV2012Blue | 0, 0, 255, 255 |
ToneCurvePV2012Green | 0, 0, 255, 255 |
ToneCurvePV2012Red | 0, 0, 255, 255 |
Version | 7.4 |
Vibrance | +61 |
VignetteAmount | 0 |
WhiteBalance (1) | As Shot |
WhiteBalance | Auto |
Whites2012 | +14 |