Felt | Verdi |
AlreadyApplied | True |
Aperture | 4.0 |
ApertureValue | 4.0 |
ApproximateFocusDistance | 0.93 |
AutoLateralCA | 0 |
AutoWhiteVersion | 134348800 |
BitsPerSample | 8 |
Blacks2012 | +26 |
BlueHue | 0 |
BlueSaturation | 0 |
CameraProfile | Embedded |
CircleOfConfusion | 0.005 mm |
Clarity2012 | -21 |
ColorComponents | 1 |
ColorMode | RGB |
ColorNoiseReduction | 0 |
ColorSpace | sRGB |
Contrast2012 | -22 |
ConvertToGrayscale | True |
CreateDate | 2014:03:15 17:27:08 |
CreatorTool | Adobe Photoshop Lightroom 5.3 (Windows) |
CropAngle | -1.3 |
CropBottom | 0.947228 |
CropConstrainToWarp | 0 |
CropLeft | 0.029358 |
CropRight | 0.985079 |
CropTop | 0.05538 |
CustomRendered | Normal |
DateCreated | 2014:03:15 |
DateTimeOriginal (1) | 2014:03:15 17:27:08+01:00 |
DateTimeOriginal | 2014:03:15 17:27:08 |
DigitalZoomRatio | 1 |
DOF | 1.64 m (0.59 - 2.23 m) |
ExifImageHeight | 3760 |
ExifImageWidth | 2761 |
Exposure2012 | -0.20 |
ExposureCompensation | 0 |
ExposureMode | Manual |
ExposureTime | 1/50 |
Firmware | 1.00 |
Flash | Off, Did not fire |
FlashCompensation | 0 |
FlashFired | False |
FlashFunction | False |
FlashMode | Off |
FlashRedEyeMode | False |
FlashReturn | No return detection |
FNumber | 4.0 |
FocalLength | 5.8 mm |
FocalLength35efl | 5.8 mm (35 mm equivalent: 32.6 mm) |
Format | image/jpeg |
FOV | 57.8 deg |
GrainAmount | 0 |
GrayMixerAqua | -43 |
GrayMixerBlue | -16 |
GrayMixerGreen | 0 |
GrayMixerMagenta | +4 |
GrayMixerOrange | 0 |
GrayMixerPurple | +15 |
GrayMixerRed | 0 |
GrayMixerYellow | 0 |
GreenHue | 0 |
GreenSaturation | 0 |
HasCrop | True |
HasSettings | True |
Highlights2012 | -24 |
HyperfocalDistance | 1.58 m |
ICCProfileName | sRGB IEC61966-2.1 |
ImageHeight | 3760 |
ImageSize | 2761x3760 |
ImageWidth | 2761 |
IncrementalTemperature | 0 |
IncrementalTint | 0 |
ISO | 400 |
Lens | 4.5-90.0 mm |
LensInfo | 4.5-90mm f/? |
LensManualDistortionAmount | 0 |
LensModel | 4.5-90.0 mm |
LensProfileEnable | 0 |
LensProfileSetup | LensDefaults |
LightValue | 7.6 |
LuminanceNoiseReductionContrast | 0 |
LuminanceNoiseReductionDetail | 50 |
LuminanceSmoothing | 17 |
Make | Canon |
MaxApertureValue | 3.5 |
Megapixels | 10.4 |
MeteringMode | Multi-segment |
Model | Canon PowerShot SX240 HS |
ModifyDate (1) | 2014:03:22 20:46:36+01:00 |
ModifyDate | 2014:03:22 20:46:36 |
Orientation | Horizontal (normal) |
ParametricDarks | -1 |
ParametricHighlights | -12 |
ParametricHighlightSplit | 75 |
ParametricLights | -24 |
ParametricMidtoneSplit | 50 |
ParametricShadows | +21 |
ParametricShadowSplit | 25 |
PerspectiveAspect | 0 |
PerspectiveHorizontal | 0 |
PerspectiveRotate | 0.0 |
PerspectiveScale | 100 |
PerspectiveUpright | 0 |
PerspectiveVertical | 0 |
PostCropVignetteAmount | 0 |
ProcessVersion | 6.7 |
ProfileDescription | sRGB IEC61966-2.1 |
RedHue | 0 |
RedSaturation | 0 |
ScaleFactor35efl | 5.6 |
SceneCaptureType | Standard |
SensingMethod | One-chip color area |
SensitivityType | Standard Output Sensitivity and Recommended Exposure Index |
Shadows2012 | +24 |
ShadowTint | 0 |
SharpenDetail | 25 |
SharpenEdgeMasking | 0 |
SharpenRadius | +1.0 |
Sharpness | 0 |
ShutterSpeed | 1/50 |
ShutterSpeedValue | 1/50 |
Software | Adobe Photoshop Elements 10.0 Windows |
SplitToningBalance | 0 |
SplitToningHighlightHue | 0 |
SplitToningHighlightSaturation | 0 |
SplitToningShadowHue | 0 |
SplitToningShadowSaturation | 0 |
ToneCurveName2012 | Linear |
ToneCurvePV2012 | 0, 0, 255, 255 |
ToneCurvePV2012Blue | 0, 0, 255, 255 |
ToneCurvePV2012Green | 0, 0, 255, 255 |
ToneCurvePV2012Red | 0, 0, 255, 255 |
URL_List | |
Version | 8.3 |
VignetteAmount | 0 |
WhiteBalance (1) | As Shot |
WhiteBalance | Manual |
Whites2012 | 0 |