Felt | Verdi |
AlreadyApplied | True |
Aperture | 3.5 |
ApertureValue | 3.5 |
ApproximateFocusDistance | 2.24 |
AutoLateralCA | 0 |
BitsPerSample (1) | 8 8 8 |
BitsPerSample | 8 |
Blacks2012 | -14 |
BlueHue | 0 |
BlueSaturation | 0 |
CameraProfile | Camera Portrait |
CFAPattern | [Red,Green][Green,Blue] |
CircleOfConfusion | 0.030 mm |
Clarity2012 | 0 |
ColorComponents | 3 |
ColorMode | RGB |
ColorNoiseReduction | 42 |
ColorNoiseReductionDetail | 50 |
ColorSpace | sRGB |
ColorTemperature | 4143 |
Contrast | Normal |
Contrast2012 | -57 |
ConvertToGrayscale | False |
CreateDate | 2012:10:29 07:21:27 |
CreatorTool | Adobe Photoshop CS6 (Windows) |
CustomRendered | Normal |
DateCreated (1) | 2012:10:29 |
DateCreated | 2012:10:29 07:21:27.003 |
DateTimeOriginal | 2012:10:29 07:21:27 |
DefringeGreenAmount | 0 |
DefringeGreenHueHi | 60 |
DefringeGreenHueLo | 40 |
DefringePurpleAmount | 0 |
DefringePurpleHueHi | 70 |
DefringePurpleHueLo | 30 |
DigitalZoomRatio | 1 |
DOF | 0.09 m (2.20 - 2.29 m) |
ExifImageHeight | 7202 |
ExifImageWidth | 4754 |
Exposure2012 | -1.07 |
ExposureCompensation | 0 |
ExposureMode | Manual |
ExposureProgram | Manual |
ExposureTime | 1/1000 |
Flash | Off, Did not fire |
FNumber | 3.5 |
FocalLength | 105.0 mm |
FocalLength35efl | 105.0 mm (35 mm equivalent: 105.0 mm) |
FocalLengthIn35mmFormat | 105 mm |
Format | image/jpeg |
FOV | 19.5 deg |
GainControl | None |
GrainAmount | 0 |
GreenHue | 0 |
GreenSaturation | 0 |
HasCrop | False |
HasSettings | True |
Highlights2012 | -24 |
HueAdjustmentAqua | 0 |
HueAdjustmentBlue | 0 |
HueAdjustmentGreen | 0 |
HueAdjustmentMagenta | 0 |
HueAdjustmentOrange | 0 |
HueAdjustmentPurple | 0 |
HueAdjustmentRed | -31 |
HueAdjustmentYellow | -36 |
HyperfocalDistance | 104.84 m |
ICCProfileName | sRGB IEC61966-2.1 |
ImageHeight (1) | 7360 |
ImageHeight | 7202 |
ImageNumber | 17909 |
ImageSize | 4754x7202 |
ImageWidth (1) | 4912 |
ImageWidth | 4754 |
ISO | 200 |
Lens | 105.0 mm f/2.8 |
LensID (1) | 151 |
LensID | Sigma Macro 105mm F2.8 EX DG OS HSM |
LensInfo | 105mm f/2.8 |
LensManualDistortionAmount | 0 |
LensModel | 105.0 mm f/2.8 |
LensProfileChromaticAberrationScale | 100 |
LensProfileDistortionScale | 200 |
LensProfileEnable | 1 |
LensProfileFilename | NIKON CORPORATION (SIGMA MACRO 105mm F2.8 EX DG OS HSM) - RAW.lcp |
LensProfileName | Adobe (SIGMA MACRO 105mm F2.8 EX DG OS HSM, NIKON CORPORATION) |
LensProfileSetup | Custom |
LensProfileVignettingScale | 21 |
LightSource | Fine Weather |
LightValue | 12.6 |
LuminanceAdjustmentAqua | 0 |
LuminanceAdjustmentBlue | 0 |
LuminanceAdjustmentGreen | 0 |
LuminanceAdjustmentMagenta | 0 |
LuminanceAdjustmentOrange | 0 |
LuminanceAdjustmentPurple | 0 |
LuminanceAdjustmentRed | 0 |
LuminanceAdjustmentYellow | 0 |
LuminanceNoiseReductionContrast | 33 |
LuminanceNoiseReductionDetail | 50 |
LuminanceSmoothing | 44 |
Make | NIKON CORPORATION |
MaxApertureValue | 2.9 |
Megapixels | 34.2 |
MeteringMode | Multi-segment |
Model | NIKON D800 |
ModifyDate (1) | 2014:04:03 13:00:26+02:00 |
ModifyDate | 2014:04:03 13:00:26 |
Orientation | Horizontal (normal) |
PaintCorrectionActive | true |
PaintCorrectionAmount | 1.000000 |
PaintCorrectionBrightness | 0.000000 |
PaintCorrectionClarity2012 (1) | -1.000000 |
PaintCorrectionClarity2012 (3) | 0.632180 |
PaintCorrectionClarity2012 (4) | -0.034480 |
PaintCorrectionClarity2012 | -0.770110 |
PaintCorrectionContrast2012 (3) | -0.747130 |
PaintCorrectionContrast2012 | 0.000000 |
PaintCorrectionDefringe (4) | 0.218390 |
PaintCorrectionDefringe | 0.000000 |
PaintCorrectionExposure2012 (3) | -0.172500 |
PaintCorrectionExposure2012 | 0.000000 |
PaintCorrectionHighlights2012 | 0.000000 |
PaintCorrectionHue | 240.000000 |
PaintCorrectionLuminanceNoise (4) | 0.793100 |
PaintCorrectionLuminanceNoise | 0.011490 |
PaintCorrectionMaskCenterWeight | 0.006382 |
PaintCorrectionMaskFlow | 1.000000 |
PaintCorrectionMaskRadius (1) | 0.024254 |
PaintCorrectionMaskRadius (10) | 0.009370 |
PaintCorrectionMaskRadius (11) | 0.009372 |
PaintCorrectionMaskRadius (12) | 0.009369 |
PaintCorrectionMaskRadius (14) | 0.009368 |
PaintCorrectionMaskRadius (15) | 0.009361 |
PaintCorrectionMaskRadius (16) | 0.009358 |
PaintCorrectionMaskRadius (2) | 0.024246 |
PaintCorrectionMaskRadius (20) | 0.009364 |
PaintCorrectionMaskRadius (25) | 0.009353 |
PaintCorrectionMaskRadius (27) | 0.009363 |
PaintCorrectionMaskRadius (28) | 0.009355 |
PaintCorrectionMaskRadius (29) | 0.009356 |
PaintCorrectionMaskRadius (3) | 0.024256 |
PaintCorrectionMaskRadius (30) | 0.032064 |
PaintCorrectionMaskRadius (31) | 0.031963 |
PaintCorrectionMaskRadius (4) | 0.024275 |
PaintCorrectionMaskRadius (5) | 0.024268 |
PaintCorrectionMaskRadius (6) | 0.010789 |
PaintCorrectionMaskRadius (7) | 0.010790 |
PaintCorrectionMaskRadius (9) | 0.010793 |
PaintCorrectionMaskRadius | 0.032242 |
PaintCorrectionMaskValue (11) | 0.517000 |
PaintCorrectionMaskValue | 0.764000 |
PaintCorrectionMaskWhat | Mask/Paint |
PaintCorrectionMoire (4) | 0.839080 |
PaintCorrectionMoire | 0.000000 |
PaintCorrectionSaturation (3) | 0.011490 |
PaintCorrectionSaturation | 0.000000 |
PaintCorrectionShadows2012 (3) | 0.356320 |
PaintCorrectionShadows2012 | -0.034480 |
PaintCorrectionSharpness (2) | 1.000000 |
PaintCorrectionSharpness | 0.494250 |
PaintCorrectionTemperature | 0.000000 |
PaintCorrectionTint | 0.000000 |
PaintCorrectionWhat | Correction |
ParametricDarks | 0 |
ParametricHighlights | 0 |
ParametricHighlightSplit | 75 |
ParametricLights | 0 |
ParametricMidtoneSplit | 50 |
ParametricShadows | 0 |
ParametricShadowSplit | 25 |
PerspectiveHorizontal | 0 |
PerspectiveRotate | 0.0 |
PerspectiveScale | 100 |
PerspectiveVertical | 0 |
PhotometricInterpretation | RGB |
PostCropVignetteAmount | 0 |
ProcessVersion | 6.7 |
ProfileDescription | sRGB IEC61966-2.1 |
RedHue | 0 |
RedSaturation | 0 |
Saturation (1) | +5 |
Saturation | Normal |
SaturationAdjustmentAqua | 0 |
SaturationAdjustmentBlue | 0 |
SaturationAdjustmentGreen | 0 |
SaturationAdjustmentMagenta | 0 |
SaturationAdjustmentOrange | 0 |
SaturationAdjustmentPurple | 0 |
SaturationAdjustmentRed | 0 |
SaturationAdjustmentYellow | 0 |
ScaleFactor35efl | 1.0 |
SceneCaptureType | Portrait |
SceneType | Directly photographed |
SensingMethod | One-chip color area |
SensitivityType | Recommended Exposure Index |
SerialNumber | 6111556 |
Shadows2012 | -5 |
ShadowTint | 0 |
SharpenDetail | 38 |
SharpenEdgeMasking | 35 |
SharpenRadius | +1.4 |
Sharpness (1) | 86 |
Sharpness | Normal |
ShutterSpeed | 1/1000 |
ShutterSpeedValue | 1/1000 |
Software | Adobe Photoshop CS6 (Windows) |
SplitToningBalance | -95 |
SplitToningHighlightHue | 0 |
SplitToningHighlightSaturation | 14 |
SplitToningShadowHue | 249 |
SplitToningShadowSaturation | 4 |
SubjectDistanceRange | Unknown |
Tint | 0 |
ToneCurveName2012 | Custom |
ToneCurvePV2012 | 0, 0, 65, 60, 178, 193, 255, 255 |
ToneCurvePV2012Blue | 0, 10, 79, 94, 189, 179, 255, 243 |
ToneCurvePV2012Green | 0, 0, 255, 255 |
ToneCurvePV2012Red | 0, 0, 255, 255 |
URL_List | |
Version | 7.3 |
Vibrance | -2 |
VignetteAmount | 0 |
WhiteBalance (1) | Custom |
WhiteBalance | Manual |
Whites2012 | -40 |